BEGIN:VCALENDAR
VERSION:2.0
PRODID:-//wp-events-plugin.com//7.2.2.1//EN
TZID:Asia/Kolkata
X-WR-TIMEZONE:Asia/Kolkata
BEGIN:VEVENT
UID:331@demo1.afdelhi.com
DTSTART;TZID=Asia/Kolkata:20251017T180000
DTEND;TZID=Asia/Kolkata:20251017T200000
DTSTAMP:20251022T085742Z
URL:https://demo1.afdelhi.com/events/%f0%9f%8e%ac-cinema-de-letrange-scree
 ning-of-spoor-kitty-kellys-diwali/
SUMMARY:🎬 Cinéma de l’Étrange | Screening of Spoor & Kitty Kelly’s
  Diwali
DESCRIPTION:🎬 Cinéma de l’Étrange @ AF Delhi | 17th October 2025\nAl
 liance Française de Delhi\, in partnership with Wench Film Festival\, pre
 sents a special screening of Cinéma de l’Étrange — a night of bold\,
  unsettling\, and thought-provoking cinema.\nThis edition features Strange
  Tales\, an anthology of shorts by Sohum Shah Films\, crafted to hook you 
 till the very end.\n\n🎥 Films on Screen\nSpoor (15 mins)Ash (Ellora Tor
 chia: Midsommar\, A Real Pain\, House of the Dragon) is tormented by a fre
 akish\, throbbing growth while caring for her dementia-ridden mother. With
  each indignity\, the lump grows — until it erupts\, spewing a mysteriou
 s substance. Can Ash uncover the truth before it consumes her?👉 Watch T
 railer\nKitty Kelly’s Diwali (52 mins)A dark thriller that explores secr
 ets\, desire\, and survival. Kitty Kelly’s Diwali (English\, 2024) follo
 ws Kitty\, the “good Indian girl\,” and her love for Kelly\, her Ameri
 can housemate and Bollywood backup dancer. But when Kelly returns home aft
 er killing her boss\, chaos erupts. With secrets unraveling and danger lur
 king\, Kitty and Kelly must navigate fear\, passion\, and survival — per
 haps finding each other along the way.👉 Watch Trailer\n📅 Date &amp\;
  Time: 17th October 2025 | 6:00 PM📍 Venue: Alliance Française de Delhi
 \n✨ Free &amp\; Open to All | Registration Mandatory⚠️ Limited seats
  | First come\, first serve basis\nJoin us for a night of strange\, grippi
 ng\, and unforgettable cinema at AF Delhi!\n
ATTACH;FMTTYPE=image/jpeg:https://demo1.afdelhi.com/wp-content/uploads/202
 5/10/AF-X-WFF-1080-x-1350-px.png
CATEGORIES:Film,Film Screening
END:VEVENT
BEGIN:VTIMEZONE
TZID:Asia/Kolkata
X-LIC-LOCATION:Asia/Kolkata
BEGIN:STANDARD
DTSTART:20241017T180000
TZOFFSETFROM:+0530
TZOFFSETTO:+0530
TZNAME:IST
END:STANDARD
END:VTIMEZONE
END:VCALENDAR