BEGIN:VCALENDAR
VERSION:2.0
PRODID:-//wp-events-plugin.com//7.2.2.1//EN
TZID:Asia/Kolkata
X-WR-TIMEZONE:Asia/Kolkata
BEGIN:VEVENT
UID:338@demo1.afdelhi.com
DTSTART;TZID=Asia/Kolkata:20251027T183000
DTEND;TZID=Asia/Kolkata:20251027T200000
DTSTAMP:20251030T174846Z
URL:https://demo1.afdelhi.com/events/%f0%9f%8e%b6-elegies-and-echoes-music
 -concert-by-dimitri-malignan-elizaveta-agrafenina/
SUMMARY:🎶 Elegies and Echoes | Music Concert by Dimitri Malignan & Eliza
 veta Agrafenina
DESCRIPTION:🎶 Elegies and Echoes | Music Concert\nExperience an enchanti
 ng evening of music and artistry with pianist Dimitri Malignan and soprano
  Elizaveta Agrafenina as they present Elegies and Echoes — a captivating
  recital celebrating the dialogue between voice and piano through emotion\
 , elegance\, and expression.\n📅 Date: 27th October 2025\n🕡 Time: 6:3
 0 PM\n📍 Venue: ML Bhartia Auditorium\, Alliance Française de Delhi\n
 🎟️ Free Entry | Open to all\n\n\nAbout the Artists\n\nDimitri Maligna
 n\nA promising young French pianist\, Dimitri Malignan is widely recognize
 d for his profound musicality and expressive depth. Winner of the Prix Cor
 tot (2017) and multiple international awards\, including at the Concours M
 usical International de Montréal\, he has performed extensively across Eu
 rope\, North America\, and Asia. Passionate about reviving forgotten voice
 s in classical music\, he co-founded the Bosmans &amp\; Beyond Ensemble\, 
 dedicated to promoting works by women composers.\n\nElizaveta Agrafenina\n
 A Norwegian soprano of Russian origin\, Elizaveta Agrafenina is acclaimed 
 for her musical versatility across repertoires ranging from Baroque to con
 temporary compositions. A graduate of the Conservatory of Amsterdam\, she 
 has performed in prestigious venues such as the Muziekgebouw (Netherlands)
 \, Grieghallen(Norway)\, and Helsinki Music Centre (Finland). Deeply commi
 tted to promoting female composers\, she co-founded Bosmans &amp\; Beyondw
 ith pianist Dimitri Malignan.\n\nJoin us for this intimate concert and wit
 ness two extraordinary artists unite their talents in a spellbinding perfo
 rmance that echoes with grace\, emotion\, and timeless beauty.\n\n&nbsp\;
ATTACH;FMTTYPE=image/jpeg:https://demo1.afdelhi.com/wp-content/uploads/202
 5/10/27TH-CONCERT.png
CATEGORIES:Concert,Music
END:VEVENT
BEGIN:VTIMEZONE
TZID:Asia/Kolkata
X-LIC-LOCATION:Asia/Kolkata
BEGIN:STANDARD
DTSTART:20241027T183000
TZOFFSETFROM:+0530
TZOFFSETTO:+0530
TZNAME:IST
END:STANDARD
END:VTIMEZONE
END:VCALENDAR