BEGIN:VCALENDAR
VERSION:2.0
PRODID:-//wp-events-plugin.com//7.2.2.1//EN
TZID:Asia/Kolkata
X-WR-TIMEZONE:Asia/Kolkata
BEGIN:VEVENT
UID:329@demo1.afdelhi.com
DTSTART;TZID=Asia/Kolkata:20250925T183000
DTEND;TZID=Asia/Kolkata:20250925T203000
DTSTAMP:20250926T082238Z
URL:https://demo1.afdelhi.com/events/a-monkey-in-winter-un-singe-en-hiver/
SUMMARY:A monkey in winter / Un singe en hiver
DESCRIPTION:AFD Ciné-Club | Film Screening\nDate: Thursday\, 25 September 
 2025Time: 6:30 PMVenue: M. L. Bhartia Auditorium\, Alliance Française de 
 Delhi\nFilm: A monkey in winter / Un singe en hiverDirector: Henri Verneui
 lLanguage: French | Subtitles: English\nAbout the Film:Albert\, a reformed
  alcoholic\, swears never to drink again if he and his wife survive the wa
 r. After the war\, however\, he struggles to keep his promise. Things take
  an unexpected turn when he meets Gabriel\, a young man drowning in alcoho
 l and torn between his drinking habits and the hope of reconciling with hi
 s daughter. Determined to help\, Albert joins Gabriel on one last nostalgi
 c drinking spree—leading to a whirlwind of madcap chaos.\n
ATTACH;FMTTYPE=image/jpeg:https://demo1.afdelhi.com/wp-content/uploads/202
 5/09/AFD-CINE-CLUB-1.png
CATEGORIES:Cine Club
END:VEVENT
BEGIN:VTIMEZONE
TZID:Asia/Kolkata
X-LIC-LOCATION:Asia/Kolkata
BEGIN:STANDARD
DTSTART:20240925T183000
TZOFFSETFROM:+0530
TZOFFSETTO:+0530
TZNAME:IST
END:STANDARD
END:VTIMEZONE
END:VCALENDAR