BEGIN:VCALENDAR
VERSION:2.0
PRODID:-//wp-events-plugin.com//7.2.2.1//EN
TZID:Asia/Kolkata
X-WR-TIMEZONE:Asia/Kolkata
BEGIN:VEVENT
UID:327@demo1.afdelhi.com
DTSTART;TZID=Asia/Kolkata:20250918T183000
DTEND;TZID=Asia/Kolkata:20250918T203000
DTSTAMP:20250919T041709Z
URL:https://demo1.afdelhi.com/events/afd-cine-club-breathless-a-bout-de-so
 uffle/
SUMMARY:AFD Cine-Club | Breathless / À bout de souffle
DESCRIPTION:AFD Cine-Club Screening – Breathless / À bout de souffle\nAl
 liance Française de Delhi is delighted to invite you to the screening of 
 Breathless (À bout de souffle)\, a masterpiece of French New Wave cinema 
 directed by Jean-Luc Godard.\nThe film follows Michel Poiccard\, a small-t
 ime criminal who steals a car in Marseille\, kills a policeman\, and escap
 es to Paris. There\, he meets Patricia\, an American student selling the N
 ew York Herald Tribune. As Michel seeks money from old acquaintances and h
 ides with Patricia\, their relationship unfolds amidst crime\, passion\, a
 nd existential uncertainty.\nWidely regarded as one of the most influentia
 l films in the history of cinema\, Breathless broke traditional filmmaking
  conventions and became a defining work of the Nouvelle Vague (French New 
 Wave).\n📅 Date: 18 September 2025🕡 Time: 6:30 PM📍 Venue: M.L. Bha
 rtia Auditorium\, Alliance Française de Delhi\n🎥 Director: Jean-Luc Go
 dard⭐ Cast: Jean-Paul Belmondo\, Jean Seberg\nEntry Free | Open to All\n
ATTACH;FMTTYPE=image/jpeg:https://demo1.afdelhi.com/wp-content/uploads/202
 5/09/AFD-CINE-CLUB.png
CATEGORIES:Cine Club
END:VEVENT
BEGIN:VTIMEZONE
TZID:Asia/Kolkata
X-LIC-LOCATION:Asia/Kolkata
BEGIN:STANDARD
DTSTART:20240918T183000
TZOFFSETFROM:+0530
TZOFFSETTO:+0530
TZNAME:IST
END:STANDARD
END:VTIMEZONE
END:VCALENDAR