BEGIN:VCALENDAR
VERSION:2.0
PRODID:-//wp-events-plugin.com//7.2.2.1//EN
TZID:Asia/Kolkata
X-WR-TIMEZONE:Asia/Kolkata
BEGIN:VEVENT
UID:332@demo1.afdelhi.com
DTSTART;TZID=Asia/Kolkata:20251014T110000
DTEND;TZID=Asia/Kolkata:20251018T190000
DTSTAMP:20251022T085636Z
URL:https://demo1.afdelhi.com/events/dig-dig-a-solo-exhibition-by-ysabelle
 -gomez-from-reunion-island/
SUMMARY:DIG DIG — A Solo Exhibition by Ysabelle Gomez from Réunion Islan
 d
DESCRIPTION:DIG DIG — A Solo Exhibition by Ysabelle Gomez\nOn view: 14th 
 – 18th October | 11:00 AM – 7:00 PMVenue: Galerie Romain Rolland\, All
 iance Française de Delhi\nAs part of Echoes from Réunion Island — Alli
 ance Française de Delhi’s celebration of Réunion Island this October 
 — we are pleased to present DIG DIG\, a solo exhibition by Ysabelle Gome
 z\, an acclaimed artist from Réunion Island whose work delves into the po
 etic and political layers of memory\, identity\, and excavation.\nThrough 
 mixed media and installation\, Gomez explores what lies buried — not onl
 y in the ground\, but within ourselves and our collective memory. Her evoc
 ative visual language bridges the personal and the historical\, the intima
 te and the universal\, offering a powerful reflection on belonging and cul
 tural heritage.\nDIG DIG is a rare opportunity to experience the vibrant a
 rtistic expression of Réunion Island and to engage with a voice that reso
 nates across time\, place\, and memory.\n
ATTACH;FMTTYPE=image/jpeg:https://demo1.afdelhi.com/wp-content/uploads/202
 5/10/REUNION-ISLAND-month-copy.png
CATEGORIES:Exhibition
END:VEVENT
BEGIN:VTIMEZONE
TZID:Asia/Kolkata
X-LIC-LOCATION:Asia/Kolkata
BEGIN:STANDARD
DTSTART:20241014T110000
TZOFFSETFROM:+0530
TZOFFSETTO:+0530
TZNAME:IST
END:STANDARD
END:VTIMEZONE
END:VCALENDAR