BEGIN:VCALENDAR
VERSION:2.0
PRODID:-//wp-events-plugin.com//7.2.2.1//EN
TZID:Asia/Kolkata
X-WR-TIMEZONE:Asia/Kolkata
BEGIN:VEVENT
UID:166@demo1.afdelhi.com
DTSTART;TZID=Asia/Kolkata:20240718T190000
DTEND;TZID=Asia/Kolkata:20240718T204500
DTSTAMP:20240718T161740Z
URL:https://demo1.afdelhi.com/events/film-mandela-long-walk-to-freedom/
SUMMARY:Film: Mandela Long Walk to Freedom - Justin Chadwick  | Mandela Day
DESCRIPTION:\n\nJoin us for the screening of the “Mandela Long Walk to Fr
 eedom”\n\nMandela Day is an annual global celebration that takes place o
 n 18 July to honour the life and legacy of Nelson Mandela.\n\nOn this occa
 ssion\, Alliance Française de Delhi and South African High Commission inv
 ite you to the screening of the movie.\nMandela Long Walk to Freedom\nBase
 d on South African President Nelson Mandela's autobiography of the same n
 ame\, which chronicles his early life\, coming of age\, education and 27 y
 ears in prison before becoming President of South Africa and working to re
 build the country which was ravaged by Apartheid\n📅Date: 18th July\n
 ⏰ Time: 7:00 pm\n📍 Venue: ML Bhartia Auditorium\, AF Delhi\nOpen to a
 ll | Free entry | With English subtitles\n\n\nInstagram Updates:\n\n\n\n&n
 bsp\;\n\n\n\n\n\n\n\n\n\n\nView this post on Instagram\n\n\n\n\n\n\n\n\n\n
 \n\n\n\n\n\n\n\n\n\n\n\n\n&nbsp\;\nA post shared by Alliance Française de
  Delhi (@alliancefrdelhi)\n\n\n
ATTACH;FMTTYPE=image/jpeg:https://demo1.afdelhi.com/wp-content/uploads/202
 4/07/mandela.jpg
CATEGORIES:Events,Film,Film Screening
LOCATION:Alliance Française de Delhi (M L Bhartia Auditorium)\, Alliance F
 rançaise de Delhi\, 72\, Lodi Estate\, K.K. Birla Lane\,\, New Delhi\, In
 dia\, 110003\, India
X-APPLE-STRUCTURED-LOCATION;VALUE=URI;X-ADDRESS=Alliance Française de Delh
 i\, 72\, Lodi Estate\, K.K. Birla Lane\,\, New Delhi\, India\, 110003\, In
 dia;X-APPLE-RADIUS=100;X-TITLE=Alliance Française de Delhi (M L Bhartia A
 uditorium):geo:0,0
END:VEVENT
BEGIN:VTIMEZONE
TZID:Asia/Kolkata
X-LIC-LOCATION:Asia/Kolkata
BEGIN:STANDARD
DTSTART:20230719T190000
TZOFFSETFROM:+0530
TZOFFSETTO:+0530
TZNAME:IST
END:STANDARD
END:VTIMEZONE
END:VCALENDAR