BEGIN:VCALENDAR
VERSION:2.0
PRODID:-//wp-events-plugin.com//7.2.2.1//EN
TZID:Asia/Kolkata
X-WR-TIMEZONE:Asia/Kolkata
BEGIN:VEVENT
UID:324@demo1.afdelhi.com
DTSTART;TZID=Asia/Kolkata:20250904T093000
DTEND;TZID=Asia/Kolkata:20250904T180000
DTSTAMP:20250905T071525Z
URL:https://demo1.afdelhi.com/events/french-open-day-at-alliance-francaise
 -de-delhi/
SUMMARY:French Open Day at Alliance Française de Delhi
DESCRIPTION:French Open Day 2025 at Alliance Française de Delhi\n📅 Date
 : 4th September📍 Venue: Alliance Française de Delhi\n\nAlliance Franç
 aise de Delhi invites you to experience French culture like never before! 
 Whether you are interested in learning French in Delhi or exploring the be
 st of French art\, food\, and traditions\, our French Open Day is the perf
 ect opportunity.\n\nWhat to Expect:\n\n\n 	\n🥐 Pastry Workshop – Tast
 e &amp\; learn the art of French baking\n\n 	\n🗣️ French Demo Classes
  – For adults\, kids\, and teens\n\n 	\n💬 Speak Dating &amp\; Café C
 roissant – Fun French-speaking games\n\n 	\n📸 Photo Booth Contest –
  Click\, tag us &amp\; win prizes\n\n 	\n📚 Discover Our French Library 
 &amp\; take a guided campus tour\n\n 	\n🎲 Storytelling &amp\; Board Gam
 es for Kids and Teens\n\n\n🎁 Exclusive Offer for New Students: Get a 5%
  discount on French courses when you register on the same day!\n👉 FREE 
 ENTRY | First-Come\, First-ServeDon’t miss this chance to immerse yourse
 lf in French language and culture in the heart of Delhi!\nREGISTER HERE: h
 ttps://forms.gle/pRcoQdFMKpMN8K5e8\nContact Us:📞 +91 9711219276 / +91 9
 873515610📧 front_desk@afdelhi.org\; courses_info@afdelhi.org
ATTACH;FMTTYPE=image/jpeg:https://demo1.afdelhi.com/wp-content/uploads/202
 5/09/DELF-reminder-Instagram-Post.png
END:VEVENT
BEGIN:VTIMEZONE
TZID:Asia/Kolkata
X-LIC-LOCATION:Asia/Kolkata
BEGIN:STANDARD
DTSTART:20240904T093000
TZOFFSETFROM:+0530
TZOFFSETTO:+0530
TZNAME:IST
END:STANDARD
END:VTIMEZONE
END:VCALENDAR