BEGIN:VCALENDAR
VERSION:2.0
PRODID:-//wp-events-plugin.com//7.2.2.1//EN
TZID:Asia/Kolkata
X-WR-TIMEZONE:Asia/Kolkata
BEGIN:VEVENT
UID:330@demo1.afdelhi.com
DTSTART;TZID=Asia/Kolkata:20251009T183000
DTEND;TZID=Asia/Kolkata:20251009T200000
DTSTAMP:20251013T050137Z
URL:https://demo1.afdelhi.com/events/kafmaron-in-concert-a-rhythmic-journe
 y-from-reunion-island-%f0%9f%8c%8d%f0%9f%8e%b6/
SUMMARY:KAFMARON in Concert – A Rhythmic Journey from Réunion Island 
 🌍🎶
DESCRIPTION:KAFMARON in Concert – A Rhythmic Journey from Réunion Island
  🌍🎶\nStep into the heartbeat of the Indian Ocean this October with K
 AFMARON\, the powerful and poetic band from Réunion Island\, as they brin
 g a one-of-a-kind concert experience to Delhi.\n📍 Date: October 9📌 V
 enue: M.L. Bhartia Auditorium\, Alliance Française de Delhi🕡 Time: 6:3
 0 PM\nBlending the deep-rooted soul of Maloya — the traditional music of
  Réunion Island — with rich Indian sounds\, Kafmaron creates a moving f
 usion that transcends borders\, bridging continents and generations.\nBut 
 this is more than just a concert — it’s a cultural voyage.\nRéunion I
 sland\, a French territory in the Indian Ocean\, is a living mosaic of cul
 tures — African\, Malagasy\, Indian\, Chinese\, and European. Through it
 s Creole language\, cuisine\, music\, and traditions\, it weaves a vibrant
  tapestry where French culture meets and interacts with the world’s heri
 tage. Between mountains\, volcanoes\, and lagoons\, Réunion embodies dive
 rsity — and Kafmaron channels that very spirit into every beat.\n✨ Joi
 n us for an unforgettable evening of movement\, music\, and meaning. This 
 is not just a concert — it’s a rhythmic bridge between worlds.\nFree E
 ntry | Seating on first come first serve basis\n
ATTACH;FMTTYPE=image/jpeg:https://demo1.afdelhi.com/wp-content/uploads/202
 5/10/reunion-events.png
CATEGORIES:Concert
END:VEVENT
BEGIN:VTIMEZONE
TZID:Asia/Kolkata
X-LIC-LOCATION:Asia/Kolkata
BEGIN:STANDARD
DTSTART:20241009T183000
TZOFFSETFROM:+0530
TZOFFSETTO:+0530
TZNAME:IST
END:STANDARD
END:VTIMEZONE
END:VCALENDAR