BEGIN:VCALENDAR
VERSION:2.0
PRODID:-//wp-events-plugin.com//7.2.2.1//EN
TZID:Asia/Kolkata
X-WR-TIMEZONE:Asia/Kolkata
BEGIN:VEVENT
UID:322@demo1.afdelhi.com
DTSTART;TZID=Asia/Kolkata:20250821T180000
DTEND;TZID=Asia/Kolkata:20250821T200000
DTSTAMP:20250822T033733Z
URL:https://demo1.afdelhi.com/events/les-amours-danais-anais-in-love/
SUMMARY:Les Amours d'Anaïs | Anaïs in Love
DESCRIPTION:AFD Cine Club invites you to the film screening\nAnaïs in Love
  \\ Les Amours d'Anaïs\nDirector: Charline Bourgeois-Taquet\nAnaïs is th
 irty and broke. She has a lover\, but she’s not sure she loves him anymo
 re. She meets Daniel\, who immediately falls for her. But Daniel lives wit
 h Emilie – whom Anaïs also falls for. This is the story of a restless y
 oung woman. And the story of a profound desire.\nDate: 21st August\, 2025
 \nTime: 6:30 pm\nVenue: M.L Bhartia Auditorium\, Alliance Française de De
 lhi\n
ATTACH;FMTTYPE=image/jpeg:https://demo1.afdelhi.com/wp-content/uploads/202
 5/08/MV5BMjJkNDQ3NzQtY2ZiYi00NjU0LTkwMzYtZjA2MTdiOGQyZWNkXkEyXkFqcGc@._V1_
 .jpg
CATEGORIES:Cine Club,Film Screening
END:VEVENT
BEGIN:VTIMEZONE
TZID:Asia/Kolkata
X-LIC-LOCATION:Asia/Kolkata
BEGIN:STANDARD
DTSTART:20240821T180000
TZOFFSETFROM:+0530
TZOFFSETTO:+0530
TZNAME:IST
END:STANDARD
END:VTIMEZONE
END:VCALENDAR