BEGIN:VCALENDAR
VERSION:2.0
PRODID:-//wp-events-plugin.com//7.2.2.1//EN
TZID:Asia/Kolkata
X-WR-TIMEZONE:Asia/Kolkata
BEGIN:VEVENT
UID:328@demo1.afdelhi.com
DTSTART;TZID=Asia/Kolkata:20250923T180000
DTEND;TZID=Asia/Kolkata:20250923T193000
DTSTAMP:20250924T032747Z
URL:https://demo1.afdelhi.com/events/mirage-aravali-film-festival/
SUMMARY:MIRAGE | Aravali Film Festival
DESCRIPTION:Alliance Francaise de Delhi and Aravali Film Festival invite yo
 u to the screening of \n\n MIRAGE\nDirector: Kayshawn Wallace\nDuration:
  1 hr 28 minutes | Language: English\nDate: 23rd September 2025 \nTime: 6
  PM\nVenue: M L Bhartia Auditorium\, Alliance Francaise de Delhi\nSYNOPSIS
 : Mirage is an intimate\, visually rich drama that follows Michael\, a sou
 lful photographer and poet navigating the shifting terrain of love\, frien
 dship\, and self-discovery in Long Beach\, California. Deeply connected to
  his closest friends\, Reggie and Janelle\, Michael begins to open himself
  to new creative and romantic possibilities. As he grapples with the emoti
 onal weight of change\, his inner world becomes increasingly layered with 
 memory\, longing\, and artistic vision. Blurring the lines between reality
  and perception\, Mirage invites viewers into a tender meditation on prese
 nce\, healing\, and the stories we tell ourselves to survive. Through poet
 ry\, pain\, and connection\, Michael must find the courage to face what he
 ’s been avoiding—and ultimately\, to move forward. \nFree Entry | Ope
 n to all\n
ATTACH;FMTTYPE=image/jpeg:https://demo1.afdelhi.com/wp-content/uploads/202
 5/09/Monthly-Poster_MIRAGE.jpeg
CATEGORIES:Film Screening
END:VEVENT
BEGIN:VTIMEZONE
TZID:Asia/Kolkata
X-LIC-LOCATION:Asia/Kolkata
BEGIN:STANDARD
DTSTART:20240923T180000
TZOFFSETFROM:+0530
TZOFFSETTO:+0530
TZNAME:IST
END:STANDARD
END:VTIMEZONE
END:VCALENDAR