BEGIN:VCALENDAR
VERSION:2.0
PRODID:-//wp-events-plugin.com//7.2.2.1//EN
TZID:Asia/Kolkata
X-WR-TIMEZONE:Asia/Kolkata
BEGIN:VEVENT
UID:335@demo1.afdelhi.com
DTSTART;TZID=Asia/Kolkata:20251024T190000
DTEND;TZID=Asia/Kolkata:20251024T203000
DTSTAMP:20251025T034820Z
URL:https://demo1.afdelhi.com/events/paris-qui-dort-cine-concert/
SUMMARY:PARIS QUI DORT | Cine Concert
DESCRIPTION:PARIS QUI DORT | Cine Concert\nStep into a frozen Paris as Ren
 é Clair’s 1924 classic Paris qui dort comes alive with Stéphane Scharl
 é’s electrifying live soundtrack on augmented drums.\nDate: 24th Octobe
 r | Time: 7 pm\nVenue: ML Bhartia Auditorium\, Alliance Française de Delh
 i\nFREE ENTRY BY REGISTRATION\nREGISTER HERE\n\n\n\nA sleeping Paris\, fro
 zen in time by a mysterious ray… and a watchman perched atop the Eiffel 
 Tower who wakes to find himself in a motionless city. René Clair’s Pari
 s qui dort (The Crazy Ray)\, restored in 4K by the Fondation Jérôme Seyd
 oux-Pathé in 2018 and considered the first French science-fiction film\, 
 is reborn in this cine-concert led by Stéphane Scharlé\, drummer and lea
 der of the acclaimed French jazz collective OZMA.\n\nFor his first solo fi
 lm-concert\, Scharlé deploys his unique invention — the Augmented Drum 
 — blending acoustic drumming with loops\, electronic textures\, and impr
 ovisation. The result: a hypnotic\, modern soundtrack that brings new life
  to Clair’s 1924 masterpiece.\n\nAbout Stéphane Scharlé\n\n\n\nDrummer
 \, composer\, and artistic director of La Compagnie Tangram\, Stéphane Sc
 harlé has performed more than 500 concerts worldwide with OZMA\, collabor
 ating across jazz\, dance\, film\, and visual arts.\nWith the Augmented Dr
 um — a revolutionary hybrid instrument — he generates loops\, electron
 ic sounds\, and layered effects in real time\, creating a sonic universe t
 hat oscillates between minimal electro\, repetitive music\, and free-form 
 jazz.\n\n\n\n\n\n\n&nbsp\;\n\n&nbsp\;
ATTACH;FMTTYPE=image/jpeg:https://demo1.afdelhi.com/wp-content/uploads/202
 5/10/delhi.png
CATEGORIES:Concert,Film Screening
END:VEVENT
BEGIN:VTIMEZONE
TZID:Asia/Kolkata
X-LIC-LOCATION:Asia/Kolkata
BEGIN:STANDARD
DTSTART:20241024T190000
TZOFFSETFROM:+0530
TZOFFSETTO:+0530
TZNAME:IST
END:STANDARD
END:VTIMEZONE
END:VCALENDAR