BEGIN:VCALENDAR
VERSION:2.0
PRODID:-//wp-events-plugin.com//7.2.2.1//EN
TZID:Asia/Kolkata
X-WR-TIMEZONE:Asia/Kolkata
BEGIN:VEVENT
UID:337@demo1.afdelhi.com
DTSTART;TZID=Asia/Kolkata:20251107T000000
DTEND;TZID=Asia/Kolkata:20251108T000000
DTSTAMP:20251023T061011Z
URL:https://demo1.afdelhi.com/events/rise-2025-re-imagining-school-educati
 on/
SUMMARY:RISE 2025 | 7th & 8th November 2025
DESCRIPTION:RISE 2025\n7th &amp\; 8th November 2025\nAlliance Française de
  Delhi\nRISE 2025 – Re-Imagining School Education will take place on 7t
 h &amp\; 8th November 2025 at Alliance Française de Delhi.  We will kick
  start the RISE 2025 with a Concert on 6th Nov.\n\nCurated by Vaishali Gup
 ta (Author and Educationist)\, this two-day festival—organized in collab
 oration with Alliance Française de Delhi and One Teacher One Scientist—
 focuses on Global Citizenship in Schools with a special emphasis on The Ro
 le of Arts and Design for Innovation.\n\nThe event will include activities
  such as workshops\, panel discussions\, competitions\, performances\, and
  cultural evenings. It aims to bring together educators\, students\, and i
 nnovators to spark creativity and reimagine thefuture of learning.\n\nDOWN
 LOAD SCHEDULE: CLICK HERE\n\nREGISTRATION FORM: CLICK HERE\n\n
ATTACH;FMTTYPE=image/jpeg:https://demo1.afdelhi.com/wp-content/uploads/202
 5/10/2025-RISE-Calender.png
CATEGORIES:Active,RISE
END:VEVENT
BEGIN:VTIMEZONE
TZID:Asia/Kolkata
X-LIC-LOCATION:Asia/Kolkata
BEGIN:STANDARD
DTSTART:20241107T000000
TZOFFSETFROM:+0530
TZOFFSETTO:+0530
TZNAME:IST
END:STANDARD
END:VTIMEZONE
END:VCALENDAR