BEGIN:VCALENDAR
VERSION:2.0
PRODID:-//wp-events-plugin.com//7.2.2.1//EN
TZID:Asia/Kolkata
X-WR-TIMEZONE:Asia/Kolkata
BEGIN:VEVENT
UID:333@demo1.afdelhi.com
DTSTART;TZID=Asia/Kolkata:20251015T180000
DTEND;TZID=Asia/Kolkata:20251015T200000
DTSTAMP:20251016T015142Z
URL:https://demo1.afdelhi.com/events/screening-of-dream-factory-qa-with-th
 e-director/
SUMMARY:Screening of Dream Factory | Q&A with the Director
DESCRIPTION:Alliance Française de Delhi\, in collaboration with the Araval
 i Film Festival\, is delighted to present a special screening of Dream Fac
 tory — a deeply personal and poetic documentary by Aarushi Nigam.\nDate:
  15th October | Time: 6:00 pm | Venue: Alliance Française de Delhi\nDream
  Factory is a meditation on the power of storytelling and the contradictio
 ns within the Indian film industry. Blending documentary and essay film\, 
 it follows the precarious lives of the “below-the-line” crew working b
 ehind the glittering façade of a big-budget Bollywood production. Seen th
 rough the eyes of an Indian woman negotiating her ambivalent relationship 
 with her culture’s myth-making machinery\, the film becomes both an act 
 of reflection and revelation.\nBorrowing Bollywood’s own cinematic langu
 age to tell the stories of its most invisible workers\, Dream Factory offe
 rs a poignant exploration of labour\, dreams\, and the hidden costs of cre
 ating cinema for a billion people.\nJoin us for the screening\, followed b
 y a Q&amp\;A session with the director\, who will share insights into her 
 journey and creative process.\n
ATTACH;FMTTYPE=image/jpeg:https://demo1.afdelhi.com/wp-content/uploads/202
 5/10/WhatsApp-Image-2025-10-06-at-4.39.09-PM.jpeg
CATEGORIES:Film Screening
END:VEVENT
BEGIN:VTIMEZONE
TZID:Asia/Kolkata
X-LIC-LOCATION:Asia/Kolkata
BEGIN:STANDARD
DTSTART:20241015T180000
TZOFFSETFROM:+0530
TZOFFSETTO:+0530
TZNAME:IST
END:STANDARD
END:VTIMEZONE
END:VCALENDAR