BEGIN:VCALENDAR
VERSION:2.0
PRODID:-//wp-events-plugin.com//7.2.2.1//EN
TZID:Asia/Kolkata
X-WR-TIMEZONE:Asia/Kolkata
BEGIN:VEVENT
UID:334@demo1.afdelhi.com
DTSTART;TZID=Asia/Kolkata:20251013T190000
DTEND;TZID=Asia/Kolkata:20251013T203000
DTSTAMP:20251014T115820Z
URL:https://demo1.afdelhi.com/events/screening-of-humans-in-the-loop-indie
 -talkies/
SUMMARY:Screening of Humans in the Loop | Indie Talkies
DESCRIPTION:The Centre de Sciences Humaines and Alliance Française de Delh
 i invite you to the Film Screening:\n\n\nHumans in the Loop\nDirected by: 
 Aranya Sahay(In Hindi with English Subtitles / 2025 / 1h 12min)\n📅 Frid
 ay\, 13 October 2025🕖 7:00 pm📍 ML Bhartia Auditorium\, Alliance Fran
 çaise de Delhi\nJoin us for a special screening of Humans in the Loop\, f
 ollowed by an insightful Q&amp\;A session with director Aranya Sahay and j
 ournalist Karishma Mehrotra\, whose groundbreaking reporting on Artificial
  Intelligence inspired the film.\n\n\n🎥 Synopsis\nAfter enduring years 
 of prejudice and painful taunts rooted in social biases\, Nehma decides to
  separate from her partner and return to her ancestral village with her ch
 ildren. In search of stability\, she finds work as a data labeler — trai
 ning algorithms to identify and classify objects with meticulous care. But
  as she immerses herself in this new world\, Nehma begins to notice the su
 btle human prejudices that shape machine learning. Through her journey\, t
 he film raises a powerful question: Can technology ever truly embody an In
 digenous worldview?\nFree entry | Open to all | Limited seats (First come\
 , first served)\n\n&nbsp\;
ATTACH;FMTTYPE=image/jpeg:https://demo1.afdelhi.com/wp-content/uploads/202
 5/10/WhatsApp-Image-2025-10-09-at-10.23.02-AM.jpeg
CATEGORIES:Film Screening
END:VEVENT
BEGIN:VTIMEZONE
TZID:Asia/Kolkata
X-LIC-LOCATION:Asia/Kolkata
BEGIN:STANDARD
DTSTART:20241013T190000
TZOFFSETFROM:+0530
TZOFFSETTO:+0530
TZNAME:IST
END:STANDARD
END:VTIMEZONE
END:VCALENDAR