BEGIN:VCALENDAR
VERSION:2.0
PRODID:-//wp-events-plugin.com//7.2.2.1//EN
TZID:Asia/Kolkata
X-WR-TIMEZONE:Asia/Kolkata
BEGIN:VEVENT
UID:325@demo1.afdelhi.com
DTSTART;TZID=Asia/Kolkata:20250909T183000
DTEND;TZID=Asia/Kolkata:20250909T203000
DTSTAMP:20250910T033217Z
URL:https://demo1.afdelhi.com/events/screening-of-pamfir-interaction-with-
 laura-briand/
SUMMARY:Screening of "PAMFIR" | Interaction with Laura Briand
DESCRIPTION:We invite you to a special screening of the acclaimed film Pamf
 ir (with English subtitles)\nSynopsis: Pamfir is a gripping Ukrainian dram
 a that follows the story of Leonid\, a former smuggler who returns home to
  his rural village on the eve of a traditional carnival. When his son sets
  fire to the village chapel\, Leonid is forced to return to the dangerous 
 underworld he once left behind to protect his family. Blending intense hum
 an drama with a powerful visual style\, Pamfir explores themes of sacrific
 e\, fatherhood\, and the cost of survival in a lawless borderland.\nFollow
 ed by the screening\, there will be an exclusive Q&amp\;A session with the
  film’s producer\, Laura Briand\, offering insights into the making of t
 his powerful and visually striking film\n📍 Venue: M.L Bhartia Auditoriu
 m\, Alliance Française de Delhi\n📅 Date: Tuesday\, 9th September\n🕡
  Time: 6:30 PM\nFree Entry | First come\, first serve\n
ATTACH;FMTTYPE=image/jpeg:https://demo1.afdelhi.com/wp-content/uploads/202
 5/09/PAMFIR.png
CATEGORIES:Film Screening
END:VEVENT
BEGIN:VTIMEZONE
TZID:Asia/Kolkata
X-LIC-LOCATION:Asia/Kolkata
BEGIN:STANDARD
DTSTART:20240909T183000
TZOFFSETFROM:+0530
TZOFFSETTO:+0530
TZNAME:IST
END:STANDARD
END:VTIMEZONE
END:VCALENDAR