BEGIN:VCALENDAR
VERSION:2.0
PRODID:-//wp-events-plugin.com//7.2.2.1//EN
TZID:Asia/Kolkata
X-WR-TIMEZONE:Asia/Kolkata
BEGIN:VEVENT
UID:336@demo1.afdelhi.com
DTSTART;TZID=Asia/Kolkata:20251023T183000
DTEND;TZID=Asia/Kolkata:20251023T200000
DTSTAMP:20251023T171400Z
URL:https://demo1.afdelhi.com/events/the-most-precious-of-cargoes-afd-cine
 -club/
SUMMARY:The Most Precious of Cargoes | AFD Ciné-Club
DESCRIPTION:🎬 AFD Ciné-Club\n La Plus précieuse des marchandises (The
  Most Precious of Cargoes)\nDirector: Michel Hazanavicius\nAs part of Anim
 ation Movie Month\, Alliance Française de Delhi invites you to an excepti
 onal screening of La Plus précieuse des marchandises — a poignant anima
 ted tale by Oscar-winning director Michel Hazanavicius.\nSet during World 
 War II\, the film follows a poor woodcutter’s wife who discovers a baby 
 thrown from a train bound for a concentration camp. Against all odds\, she
  chooses to protect the child — nurturing a fragile spark of hope and hu
 manity amid the darkest times.\nThis moving allegory about love\, survival
 \, and compassion reminds us that even in the bleakest moments\, kindness 
 can change destinies.\n📅 Date: Thursday\, 23 October 2025🕕 Time: 6:3
 0 PM📍 Venue: M. L. Bhartia Auditorium\, Alliance Française de Delhi\nF
 rench movie with English subtitles\nJoin us as we celebrate the art of ani
 mation — where imagination brings powerful human stories to life.\n
ATTACH;FMTTYPE=image/jpeg:https://demo1.afdelhi.com/wp-content/uploads/202
 5/10/AFD-CINE-CLUB.png
CATEGORIES:Cine Club
END:VEVENT
BEGIN:VTIMEZONE
TZID:Asia/Kolkata
X-LIC-LOCATION:Asia/Kolkata
BEGIN:STANDARD
DTSTART:20241023T183000
TZOFFSETFROM:+0530
TZOFFSETTO:+0530
TZNAME:IST
END:STANDARD
END:VTIMEZONE
END:VCALENDAR