BEGIN:VCALENDAR
VERSION:2.0
PRODID:-//wp-events-plugin.com//7.2.2.1//EN
TZID:Asia/Kolkata
X-WR-TIMEZONE:Asia/Kolkata
BEGIN:VEVENT
UID:326@demo1.afdelhi.com
DTSTART;TZID=Asia/Kolkata:20250920T110000
DTEND;TZID=Asia/Kolkata:20250928T190000
DTSTAMP:20250929T035232Z
URL:https://demo1.afdelhi.com/events/the-space-in-between-exhibition/
SUMMARY:The Space In Between | Exhibition
DESCRIPTION:Alliance Française de Delhi in collaboration with Triveni Kala
  Sangam cordially invites you to the exhibition \n\n The Space in Betwee
 n\n       A Group Exhibition of Paintings and Sculptures\nExhibition o
 n view: 20th September - 28th September\nVenue: Galerie Romain Rolland\, A
 lliance Française de Delhi\nTime: 11 am - 7 pm\nMarking the first collabo
 ration between Alliance Française de Delhi and Triveni Kala Sangam\, this
  exhibition brings together painters and sculptors in dialogue — where t
 hought meets form\, shadow meets light\, and every artwork finds its thres
 hold. TheSpace in Between weaves painters and sculptors into a quiet dialo
 gue\, where gesture meets weight\, and surface meets depth. When the art o
 f Triveni comes alive at Alliance\, two institutions meet\, inhabiting thi
 s very “in-between\,” a spacewhere creativity\, dialogue\, and meaning
  emerge.\nFeaturing works by: Jyoti Maini\, Manu Singh\, Rachit Jain\, Saa
 hil Juneja\, Renu Jain\, Prenita Dutt\, Kalaiarasi Abhilash\, Avneet Chawl
 a\, Monica Pandey\, Ritu Bhutani\, Priyanka Chandwani\, Kavita Gandhi Wig.
 \n\n
ATTACH;FMTTYPE=image/jpeg:https://demo1.afdelhi.com/wp-content/uploads/202
 5/09/the-space-in-between-insta.png
CATEGORIES:Exhibition
END:VEVENT
BEGIN:VTIMEZONE
TZID:Asia/Kolkata
X-LIC-LOCATION:Asia/Kolkata
BEGIN:STANDARD
DTSTART:20240920T110000
TZOFFSETFROM:+0530
TZOFFSETTO:+0530
TZNAME:IST
END:STANDARD
END:VTIMEZONE
END:VCALENDAR